BEGIN:VCALENDAR
VERSION:2.0
PRODID:-//Homeschool Freedom - ECPv6.15.20//NONSGML v1.0//EN
CALSCALE:GREGORIAN
METHOD:PUBLISH
X-ORIGINAL-URL:https://homeschoolfreedom.com
X-WR-CALDESC:Events for Homeschool Freedom
REFRESH-INTERVAL;VALUE=DURATION:PT1H
X-Robots-Tag:noindex
X-PUBLISHED-TTL:PT1H
BEGIN:VTIMEZONE
TZID:America/New_York
BEGIN:DAYLIGHT
TZOFFSETFROM:-0500
TZOFFSETTO:-0400
TZNAME:EDT
DTSTART:20250309T070000
END:DAYLIGHT
BEGIN:STANDARD
TZOFFSETFROM:-0400
TZOFFSETTO:-0500
TZNAME:EST
DTSTART:20251102T060000
END:STANDARD
BEGIN:DAYLIGHT
TZOFFSETFROM:-0500
TZOFFSETTO:-0400
TZNAME:EDT
DTSTART:20260308T070000
END:DAYLIGHT
BEGIN:STANDARD
TZOFFSETFROM:-0400
TZOFFSETTO:-0500
TZNAME:EST
DTSTART:20261101T060000
END:STANDARD
BEGIN:DAYLIGHT
TZOFFSETFROM:-0500
TZOFFSETTO:-0400
TZNAME:EDT
DTSTART:20270314T070000
END:DAYLIGHT
BEGIN:STANDARD
TZOFFSETFROM:-0400
TZOFFSETTO:-0500
TZNAME:EST
DTSTART:20271107T060000
END:STANDARD
END:VTIMEZONE
BEGIN:VEVENT
DTSTART;VALUE=DATE:20260418
DTEND;VALUE=DATE:20260419
DTSTAMP:20260421T061225
CREATED:20251007T210315Z
LAST-MODIFIED:20251007T212437Z
UID:10000192-1776470400-1776556799@homeschoolfreedom.com
SUMMARY:2026 DFW Leader Summit
DESCRIPTION:The 2026 DFW Leader Summit is a catalyst for growth\, encouragement\, and renewal for local homeschool leaders. Designed exclusively for those who carry the responsibility of guiding and supporting homeschool families\, this gathering offers the tools\, strategies\, and inspiration you need to thrive in your vital role. \nOver the course of the one day Summit\, you’ll engage in leadership development sessions that speak directly to the unique challenges homeschool leaders face. From practical tools for organizational growth to proven strategies for building healthy\, sustainable communities\, every session is tailored to equip you with actionable insights you can put into practice right away. \nBut beyond the training\, the Leader Summit is about connection. You’ll meet other leaders who understand your journey\, share your passion\, and can stand beside you as allies in the mission of strengthening homeschool families. Through meaningful networking\, resource-sharing\, and intentional encouragement\, you’ll leave with more than ideas—you’ll leave with a renewed sense of purpose and a community of peers who truly see and hear you. \nStep into your leadership with confidence\, clarity\, and courage. This one-of-a-kind event will empower you to make a greater impact and remind you that you don’t have to lead alone. Register at the Link Below
URL:https://homeschoolfreedom.com/event/2026-dfw-leader-summit
LOCATION:Southwestern Baptist Theological Seminary\, 2001 W Seminary Dr\, Fort Worth\, TX\, 76115\, United States
CATEGORIES:Leadership Event
ATTACH;FMTTYPE=image/png:https://homeschoolfreedom.com/wp-content/uploads/2025/10/Leader-Summit-Logos.png
ORGANIZER;CN="THSC (Texas Home School Coalition)":MAILTO:thsc@thsc.org
END:VEVENT
BEGIN:VEVENT
DTSTART;TZID=America/New_York:20260417T190000
DTEND;TZID=America/New_York:20260417T210000
DTSTAMP:20260421T061225
CREATED:20251007T210436Z
LAST-MODIFIED:20251007T212444Z
UID:10000195-1776452400-1776459600@homeschoolfreedom.com
SUMMARY:2026 Fort Worth Graduation
DESCRIPTION:THSC 2026 DFW Graduation – April 17\, 2026 | Fort Worth\, TX \nJoin us for an unforgettable celebration of achievement at the 2026 THSC DFW Graduation! This special ceremony honors the hard work\, dedication\, and accomplishments of homeschool graduates from across the Dallas-Fort Worth area. \nFamilies and friends are invited to gather for an inspiring program featuring a meaningful keynote address and a beautiful ceremony designed to mark this milestone moment. \nDon’t miss the opportunity to celebrate your graduate’s success in a joyful\, Christ-centered environment alongside the local homeschool community! Register at the link included in the description!
URL:https://homeschoolfreedom.com/event/2026-fort-worth-graduation
LOCATION:Southwestern Baptist Theological Seminary\, 2001 W Seminary Dr\, Fort Worth\, TX\, 76115\, United States
CATEGORIES:Graduation Ceremony,Homeschooling High School
ATTACH;FMTTYPE=image/png:https://homeschoolfreedom.com/wp-content/uploads/2025/10/2026grad.png
ORGANIZER;CN="THSC (Texas Home School Coalition)":MAILTO:thsc@thsc.org
END:VEVENT
END:VCALENDAR