BEGIN:VCALENDAR
VERSION:2.0
PRODID:-//Homeschool Freedom - ECPv6.15.20//NONSGML v1.0//EN
CALSCALE:GREGORIAN
METHOD:PUBLISH
X-WR-CALNAME:Homeschool Freedom
X-ORIGINAL-URL:https://homeschoolfreedom.com
X-WR-CALDESC:Events for Homeschool Freedom
REFRESH-INTERVAL;VALUE=DURATION:PT1H
X-Robots-Tag:noindex
X-PUBLISHED-TTL:PT1H
BEGIN:VTIMEZONE
TZID:America/New_York
BEGIN:DAYLIGHT
TZOFFSETFROM:-0500
TZOFFSETTO:-0400
TZNAME:EDT
DTSTART:20230312T070000
END:DAYLIGHT
BEGIN:STANDARD
TZOFFSETFROM:-0400
TZOFFSETTO:-0500
TZNAME:EST
DTSTART:20231105T060000
END:STANDARD
BEGIN:DAYLIGHT
TZOFFSETFROM:-0500
TZOFFSETTO:-0400
TZNAME:EDT
DTSTART:20240310T070000
END:DAYLIGHT
BEGIN:STANDARD
TZOFFSETFROM:-0400
TZOFFSETTO:-0500
TZNAME:EST
DTSTART:20241103T060000
END:STANDARD
BEGIN:DAYLIGHT
TZOFFSETFROM:-0500
TZOFFSETTO:-0400
TZNAME:EDT
DTSTART:20250309T070000
END:DAYLIGHT
BEGIN:STANDARD
TZOFFSETFROM:-0400
TZOFFSETTO:-0500
TZNAME:EST
DTSTART:20251102T060000
END:STANDARD
END:VTIMEZONE
BEGIN:VEVENT
DTSTART;TZID=America/New_York:20241108T163000
DTEND;TZID=America/New_York:20241109T170000
DTSTAMP:20260422T202846
CREATED:20240909T203900Z
LAST-MODIFIED:20241005T191110Z
UID:10000065-1731083400-1731171600@homeschoolfreedom.com
SUMMARY:2024 NCHE Moms Retreat
DESCRIPTION:Call your friends and sign up now to join us for a weekend full of fun and fellowship at the 2024 Moms Retreat. This year’s moms retreat will again take place November 8-9 at Caraway Conference Center near Asheboro\, NC. Find out more about our location at carawayconferencecenter.com \nWe will gather on Friday afternoon and enjoy dinner together. After dinner\, we will have an encouraging talk. To wind up the evening\, we have reserved the fire pit area for s’mores and conversation. Saturday will include more encouragement from our speakers\, a craft time and after lunch a time of just fun relaxing activities from a group hike to board games and hobby time.  Be sure and bring along your crochet\, scrapbook\, or favorite board game. You’ll have a chance to make new friends and enjoying some relaxing time. Of course there will be giveaways too (who doesn’t love a prize). Nursing babies are welcome.
URL:https://homeschoolfreedom.com/event/2024-nche-moms-retreat
LOCATION:Caraway Conference Center\, 4756 Caraway Mountain Rd\, Sophia\, NC\, 27350\, United States
CATEGORIES:Moms Event,Women's Event or Retreat
ATTACH;FMTTYPE=image/png:https://homeschoolfreedom.com/wp-content/uploads/2024/09/momsretreat.png
ORGANIZER;CN="NCHE (North Carolinians for Home Education)":MAILTO:nche@nche.com
END:VEVENT
END:VCALENDAR