BEGIN:VCALENDAR
VERSION:2.0
PRODID:-//Homeschool Freedom - ECPv6.15.20//NONSGML v1.0//EN
CALSCALE:GREGORIAN
METHOD:PUBLISH
X-ORIGINAL-URL:https://homeschoolfreedom.com
X-WR-CALDESC:Events for Homeschool Freedom
REFRESH-INTERVAL;VALUE=DURATION:PT1H
X-Robots-Tag:noindex
X-PUBLISHED-TTL:PT1H
BEGIN:VTIMEZONE
TZID:America/New_York
BEGIN:DAYLIGHT
TZOFFSETFROM:-0500
TZOFFSETTO:-0400
TZNAME:EDT
DTSTART:20230312T070000
END:DAYLIGHT
BEGIN:STANDARD
TZOFFSETFROM:-0400
TZOFFSETTO:-0500
TZNAME:EST
DTSTART:20231105T060000
END:STANDARD
BEGIN:DAYLIGHT
TZOFFSETFROM:-0500
TZOFFSETTO:-0400
TZNAME:EDT
DTSTART:20240310T070000
END:DAYLIGHT
BEGIN:STANDARD
TZOFFSETFROM:-0400
TZOFFSETTO:-0500
TZNAME:EST
DTSTART:20241103T060000
END:STANDARD
BEGIN:DAYLIGHT
TZOFFSETFROM:-0500
TZOFFSETTO:-0400
TZNAME:EDT
DTSTART:20250309T070000
END:DAYLIGHT
BEGIN:STANDARD
TZOFFSETFROM:-0400
TZOFFSETTO:-0500
TZNAME:EST
DTSTART:20251102T060000
END:STANDARD
BEGIN:DAYLIGHT
TZOFFSETFROM:-0500
TZOFFSETTO:-0400
TZNAME:EDT
DTSTART:20260308T070000
END:DAYLIGHT
BEGIN:STANDARD
TZOFFSETFROM:-0400
TZOFFSETTO:-0500
TZNAME:EST
DTSTART:20261101T060000
END:STANDARD
BEGIN:DAYLIGHT
TZOFFSETFROM:-0500
TZOFFSETTO:-0400
TZNAME:EDT
DTSTART:20270314T070000
END:DAYLIGHT
BEGIN:STANDARD
TZOFFSETFROM:-0400
TZOFFSETTO:-0500
TZNAME:EST
DTSTART:20271107T060000
END:STANDARD
END:VTIMEZONE
BEGIN:VTIMEZONE
TZID:America/Denver
BEGIN:DAYLIGHT
TZOFFSETFROM:-0700
TZOFFSETTO:-0600
TZNAME:MDT
DTSTART:20240310T090000
END:DAYLIGHT
BEGIN:STANDARD
TZOFFSETFROM:-0600
TZOFFSETTO:-0700
TZNAME:MST
DTSTART:20241103T080000
END:STANDARD
BEGIN:DAYLIGHT
TZOFFSETFROM:-0700
TZOFFSETTO:-0600
TZNAME:MDT
DTSTART:20250309T090000
END:DAYLIGHT
BEGIN:STANDARD
TZOFFSETFROM:-0600
TZOFFSETTO:-0700
TZNAME:MST
DTSTART:20251102T080000
END:STANDARD
BEGIN:DAYLIGHT
TZOFFSETFROM:-0700
TZOFFSETTO:-0600
TZNAME:MDT
DTSTART:20260308T090000
END:DAYLIGHT
BEGIN:STANDARD
TZOFFSETFROM:-0600
TZOFFSETTO:-0700
TZNAME:MST
DTSTART:20261101T080000
END:STANDARD
END:VTIMEZONE
BEGIN:VEVENT
DTSTART;TZID=America/New_York:20260207T080000
DTEND;TZID=America/New_York:20260207T170000
DTSTAMP:20260421T045829
CREATED:20251023T201841Z
LAST-MODIFIED:20260226T233033Z
UID:10000218-1770451200-1770483600@homeschoolfreedom.com
SUMMARY:2026 Homeschool Idaho North Conference
DESCRIPTION:Called To Prepare – A one-day gathering for our North Idaho homeschool families! You’ll hear our special keynote and helpful workshop sessions\, shop in our delightful exhibit hall and silent auction\, and enjoy an optional take-and-go lunch. Experience the close-knit North Idaho homeschool community!
URL:https://homeschoolfreedom.com/event/2026-homeschool-idaho-north-conference
LOCATION:Candlelight Christian Fellowship\, 5725 North Pioneer Drive\, Coeur d’Alene\, 83815\, United States
CATEGORIES:Homeschool Conference or Convention
ATTACH;FMTTYPE=image/png:https://homeschoolfreedom.com/wp-content/uploads/2025/10/Called_Transparent-heading.png
ORGANIZER;CN="Homeschool Idaho":MAILTO:info@homeschoolidaho.org
END:VEVENT
BEGIN:VEVENT
DTSTART;TZID=America/New_York:20250606T080000
DTEND;TZID=America/New_York:20250607T170000
DTSTAMP:20260421T045829
CREATED:20241005T185748Z
LAST-MODIFIED:20241005T191020Z
UID:10000103-1749196800-1749315600@homeschoolfreedom.com
SUMMARY:Homeschool Idaho Convention
DESCRIPTION:The Homeschool Idaho Convention is a vibrant gathering of home educators. We bring in expert speakers with change-your-life messages and exhibitors with passion and knowledge to equip and empower you on your homeschool journey. \nIt happens to all of us: whether we’ve been homeschooling for 20 minutes or 20 years\, we can become stuck with uncertainty and doubt. But the good news is that freedom is greater than fear. Whether you’re just thinking about taking the plunge or have years of experience\, you have tremendous freedom in educating your children at home. Most importantly\, you have the freedom to follow where God leads. \nJoin us and hundreds of other homeschooling families at Treasure Valley Baptist Church in Meridian\, Idaho\, as we gather together to walk in freedom!
URL:https://homeschoolfreedom.com/event/2025-homeschool-idaho-convention
LOCATION:Treasure Valley Baptist Church\, 1300 S. Teare\, Meridian\, ID\, 83642\, United States
CATEGORIES:Family Event,Homeschool Conference or Convention
ATTACH;FMTTYPE=image/png:https://homeschoolfreedom.com/wp-content/uploads/2024/10/placeholder-convention-image.png
ORGANIZER;CN="Homeschool Idaho":MAILTO:info@homeschoolidaho.org
END:VEVENT
BEGIN:VEVENT
DTSTART;TZID=America/New_York:20250605T100000
DTEND;TZID=America/New_York:20250605T130000
DTSTAMP:20260421T045829
CREATED:20241006T145114Z
LAST-MODIFIED:20241007T163113Z
UID:10000105-1749117600-1749128400@homeschoolfreedom.com
SUMMARY:2025 Homeschool Idaho Curriculum Resale Event
DESCRIPTION:The Homeschool Idaho Curriculum Resale Event is an open-air shopping experience! This cash-only sale allows you to shop directly from homeschool families. You will be able to sell homeschool-related items conveniently from your own vehicle. Table rentals available separately.
URL:https://homeschoolfreedom.com/event/2025-homeschool-idaho-curriculum-resale-event
LOCATION:Treasure Valley Baptist Church\, 1300 S. Teare\, Meridian\, ID\, 83642\, United States
CATEGORIES:Used Book Sale
ATTACH;FMTTYPE=image/png:https://homeschoolfreedom.com/wp-content/uploads/2024/10/Curriculum-resale-event-2025.png
ORGANIZER;CN="Homeschool Idaho":MAILTO:info@homeschoolidaho.org
END:VEVENT
BEGIN:VEVENT
DTSTART;TZID=America/Denver:20250524T153000
DTEND;TZID=America/Denver:20250524T173000
DTSTAMP:20260421T045829
CREATED:20241008T175921Z
LAST-MODIFIED:20241008T225936Z
UID:10000117-1748100600-1748107800@homeschoolfreedom.com
SUMMARY:2025 Homeschool Idaho Graduation
DESCRIPTION:Homeschool graduation is a significant event for students and their parents. Join families from around the state at a memorable event that commends the diligent work of Idaho’s homeschool graduates. Let Homeschool Idaho take care of the details while YOU enjoy your graduate!
URL:https://homeschoolfreedom.com/event/2025-homeschool-idaho-graduation
LOCATION:Brandt Center\, Northwest Nazarene University
CATEGORIES:Family Event,Graduation Ceremony
ATTACH;FMTTYPE=image/png:https://homeschoolfreedom.com/wp-content/uploads/2024/10/homeschool-idaho-graduation-2025.png
ORGANIZER;CN="Homeschool Idaho":MAILTO:info@homeschoolidaho.org
END:VEVENT
BEGIN:VEVENT
DTSTART;TZID=America/Denver:20250212T080000
DTEND;TZID=America/Denver:20250212T140000
DTSTAMP:20260421T045829
CREATED:20241008T175553Z
LAST-MODIFIED:20241008T230006Z
UID:10000118-1739347200-1739368800@homeschoolfreedom.com
SUMMARY:2025 Homeschool Idaho Legislative Day
DESCRIPTION:For over 30 years\, Idaho homeschool families have visited the Idaho capitol to highlight to our elected officials the many advantages of a private home education. We serve homemade pie while our legislators tour a wide variety of  student displays and listen to our talented musicians. This event is sponsored by Homeschool Idaho\, but we could not do it without the help of families just like yours.
URL:https://homeschoolfreedom.com/event/2025-homeschool-idaho-legislative-day
LOCATION:Idaho State Capitol
CATEGORIES:Homeschool Day at the Capitol,Legislative Event
ATTACH;FMTTYPE=image/png:https://homeschoolfreedom.com/wp-content/uploads/2024/10/2025-Legislative-Day-FB-Header.png
ORGANIZER;CN="Homeschool Idaho":MAILTO:info@homeschoolidaho.org
END:VEVENT
BEGIN:VEVENT
DTSTART;VALUE=DATE:20240606
DTEND;VALUE=DATE:20240609
DTSTAMP:20260421T045829
CREATED:20240129T232518Z
LAST-MODIFIED:20240129T232518Z
UID:10000009-1717632000-1717891199@homeschoolfreedom.com
SUMMARY:2024 Homeschool Idaho Convention
DESCRIPTION:Held each year in June\, Homeschool Idaho’s Convention is a vibrant gathering designed by homeschoolers for homeschoolers. Our multi-day event brings together authentic speakers with change-your-life messages\, and exhibitors with passion and knowledge to equip and encourage you with ideas\, strategies\, and tools. Join us and hundreds of like-minded homeschooling families at the Homeschool Idaho Convention.
URL:https://homeschoolfreedom.com/event/2024-homeschool-idaho-convention
LOCATION:Treasure Valley Baptist Church\, 1300 S. Teare\, Meridian\, ID\, 83642\, United States
CATEGORIES:Homeschool Conference or Convention,Used Book Sale
ATTACH;FMTTYPE=image/jpeg:https://homeschoolfreedom.com/wp-content/uploads/2024/01/HomeschoolIdaho_Convention_940x788.jpg
ORGANIZER;CN="Homeschool Idaho":MAILTO:info@homeschoolidaho.org
END:VEVENT
END:VCALENDAR