BEGIN:VCALENDAR
VERSION:2.0
PRODID:-//Homeschool Freedom - ECPv6.15.20//NONSGML v1.0//EN
CALSCALE:GREGORIAN
METHOD:PUBLISH
X-ORIGINAL-URL:https://homeschoolfreedom.com
X-WR-CALDESC:Events for Homeschool Freedom
REFRESH-INTERVAL;VALUE=DURATION:PT1H
X-Robots-Tag:noindex
X-PUBLISHED-TTL:PT1H
BEGIN:VTIMEZONE
TZID:America/Phoenix
BEGIN:STANDARD
TZOFFSETFROM:-0700
TZOFFSETTO:-0700
TZNAME:MST
DTSTART:20250101T000000
END:STANDARD
END:VTIMEZONE
BEGIN:VEVENT
DTSTART;VALUE=DATE:20260717
DTEND;VALUE=DATE:20260719
DTSTAMP:20260421T080416
CREATED:20260226T225218Z
LAST-MODIFIED:20260226T232931Z
UID:10000229-1784246400-1784419199@homeschoolfreedom.com
SUMMARY:Learning Together Arizona: AFHE's 43rd Annual Home Education Convention
DESCRIPTION:Whether you’ve been coming for years or this is your first homeschool gathering\, LEARNING TOGETHER ARIZONA is for you! And our 2026 convention will absolutely feature a patriotic and historic flair as we celebrate the 250th anniversary of America’s Declaration of Independence! Here’s what you’ll find when you join us July 17-18: \n\nInspiring and motivating keynotes from nationally known speakers Heidi St. John and Bill Federer\nOver 100 workshops led by experienced homeschool “veterans” and subject matter experts\nPractical “how-to” sessions for those real challenges and questions all homeschoolers face\nFull two-day program for teens\nHuge expo hall with 120+ curriculum publishers\, authors\, service providers\, resource organizations\, and educational materials suppliers\nAFHE’s Mentoring Connection staffed with homeschool parents eager to hear your story and answer your questions\nA Friday night event for the whole family! AFHE Heritage of Freedom Celebration will combine a festival atmosphere with a patriotic program of speakers\, music\, and drama.\n\nOur pre-convention day on July 16 will include: \n\nFREE intro seminar “You Can Homeschool”: no RSVP or entry fee required! Come with a friend\, your spouse\, grandparents—anyone who is curious about homeschooling in Arizona and how to get started.\nHigh school dissection labs: two 2-hour labs taught by a college anatomy instructor\nHistory Fair: homeschool students age 6-18 may enter a project to display and compete for prizes\n\nOnline registration will open April 2\, 2026. Complete details will be published at afhe.org beginning in February.
URL:https://homeschoolfreedom.com/event/2026-afhe-convention
LOCATION:Phoenix Convention Center\, 33 South Third Street\, Phoenix\, AZ\, 85004\, United States
CATEGORIES:Homeschool Conference or Convention
ATTACH;FMTTYPE=image/png:https://homeschoolfreedom.com/wp-content/uploads/2026/01/Horizontal_with_date-transparent-1460x582-1.png
ORGANIZER;CN="AFHE (Arizona Families for Home Education)":MAILTO:homeschool@afhe.org
END:VEVENT
END:VCALENDAR