BEGIN:VCALENDAR
VERSION:2.0
PRODID:-//Homeschool Freedom - ECPv6.15.20//NONSGML v1.0//EN
CALSCALE:GREGORIAN
METHOD:PUBLISH
X-ORIGINAL-URL:https://homeschoolfreedom.com
X-WR-CALDESC:Events for Homeschool Freedom
REFRESH-INTERVAL;VALUE=DURATION:PT1H
X-Robots-Tag:noindex
X-PUBLISHED-TTL:PT1H
BEGIN:VTIMEZONE
TZID:America/New_York
BEGIN:DAYLIGHT
TZOFFSETFROM:-0500
TZOFFSETTO:-0400
TZNAME:EDT
DTSTART:20250309T070000
END:DAYLIGHT
BEGIN:STANDARD
TZOFFSETFROM:-0400
TZOFFSETTO:-0500
TZNAME:EST
DTSTART:20251102T060000
END:STANDARD
BEGIN:DAYLIGHT
TZOFFSETFROM:-0500
TZOFFSETTO:-0400
TZNAME:EDT
DTSTART:20260308T070000
END:DAYLIGHT
BEGIN:STANDARD
TZOFFSETFROM:-0400
TZOFFSETTO:-0500
TZNAME:EST
DTSTART:20261101T060000
END:STANDARD
BEGIN:DAYLIGHT
TZOFFSETFROM:-0500
TZOFFSETTO:-0400
TZNAME:EDT
DTSTART:20270314T070000
END:DAYLIGHT
BEGIN:STANDARD
TZOFFSETFROM:-0400
TZOFFSETTO:-0500
TZNAME:EST
DTSTART:20271107T060000
END:STANDARD
END:VTIMEZONE
BEGIN:VEVENT
DTSTART;TZID=America/New_York:20260509T140000
DTEND;TZID=America/New_York:20260509T160000
DTSTAMP:20260421T062833
CREATED:20260102T214828Z
LAST-MODIFIED:20260226T232941Z
UID:10000223-1778335200-1778342400@homeschoolfreedom.com
SUMMARY:2026 Homeschool Iowa Graduation
DESCRIPTION:Homeschool Iowa member families with a homeschooled student graduating from high school\, make plans to join us for the 2026 Homeschool Iowa Graduation Ceremony May 9\, 2026. This formal cap-and-gown ceremony is a celebration of a very important milestone. The registration deadline is March 31\, 2026. \nCeremony rehearsal and photographs will be at 12:30 pm\, with the ceremony at 2:00 pm. A printed diploma with case\, graduation gown\, cap\, and tassel are part of the ceremony\, and these items are ordered directly from our supplier\, using a link provided in our graduation registration. \nVisit the website to learn more about participating in this year’s ceremony and to register.
URL:https://homeschoolfreedom.com/event/2026-homeschool-iowa-graduation
LOCATION:Faith Baptist Bible College\, 1900 NW 4th Street\, Ankeny\, IA\, 50023\, United States
CATEGORIES:Graduation Ceremony
ATTACH;FMTTYPE=image/png:https://homeschoolfreedom.com/wp-content/uploads/2025/12/grad-day.png
ORGANIZER;CN="Homeschool Iowa":MAILTO:info@homeschooliowa.org
END:VEVENT
BEGIN:VEVENT
DTSTART;VALUE=DATE:20260605
DTEND;VALUE=DATE:20260607
DTSTAMP:20260421T062833
CREATED:20260102T211854Z
LAST-MODIFIED:20260102T230117Z
UID:10000224-1780617600-1780790399@homeschoolfreedom.com
SUMMARY:2026 Homeschool Iowa Conference 
DESCRIPTION:You’ll experience a fantastic weekend of excitement and encouragement at the 2026 Homeschool Iowa Conference! \nCome away feeling not only informed and equipped\, but also refreshed and rejuvenated for your homeschool journey\, whether just starting out or a seasoned traveler. \nOur 2026 Conference offers new ideas\, strategies\, vision\, and perspective. \nSoak in useful information from the outstanding speakers\, shop in the expansive exhibit hall\, and tap into the special tracks\, youth programs\, and other custom-designed programming for homeschooling families. \n It’s an amazing weekend of recharging\, learning\, and connecting. Gain just what you need to walk this beautiful\, sometimes challenging\, but always incredibly vital homeschooling journey with our families. \nWant to receive conference news & updates? Homeschool Iowa Conference & Exhibit Hall – Homeschool Iowa
URL:https://homeschoolfreedom.com/event/2026-homeschool-iowa-conference
LOCATION:MidAmerican Energy RecPlex\, 6500 Grand Avenue\, West Des Moines\, IA\, 50266\, United States
CATEGORIES:Homeschool Conference or Convention
ATTACH;FMTTYPE=image/png:https://homeschoolfreedom.com/wp-content/uploads/2025/12/Conference.png
ORGANIZER;CN="Homeschool Iowa":MAILTO:info@homeschooliowa.org
END:VEVENT
END:VCALENDAR