BEGIN:VCALENDAR
VERSION:2.0
PRODID:-//Homeschool Freedom - ECPv6.15.20//NONSGML v1.0//EN
CALSCALE:GREGORIAN
METHOD:PUBLISH
X-WR-CALNAME:Homeschool Freedom
X-ORIGINAL-URL:https://homeschoolfreedom.com
X-WR-CALDESC:Events for Homeschool Freedom
REFRESH-INTERVAL;VALUE=DURATION:PT1H
X-Robots-Tag:noindex
X-PUBLISHED-TTL:PT1H
BEGIN:VTIMEZONE
TZID:America/New_York
BEGIN:DAYLIGHT
TZOFFSETFROM:-0500
TZOFFSETTO:-0400
TZNAME:EDT
DTSTART:20250309T070000
END:DAYLIGHT
BEGIN:STANDARD
TZOFFSETFROM:-0400
TZOFFSETTO:-0500
TZNAME:EST
DTSTART:20251102T060000
END:STANDARD
BEGIN:DAYLIGHT
TZOFFSETFROM:-0500
TZOFFSETTO:-0400
TZNAME:EDT
DTSTART:20260308T070000
END:DAYLIGHT
BEGIN:STANDARD
TZOFFSETFROM:-0400
TZOFFSETTO:-0500
TZNAME:EST
DTSTART:20261101T060000
END:STANDARD
BEGIN:DAYLIGHT
TZOFFSETFROM:-0500
TZOFFSETTO:-0400
TZNAME:EDT
DTSTART:20270314T070000
END:DAYLIGHT
BEGIN:STANDARD
TZOFFSETFROM:-0400
TZOFFSETTO:-0500
TZNAME:EST
DTSTART:20271107T060000
END:STANDARD
END:VTIMEZONE
BEGIN:VTIMEZONE
TZID:America/Los_Angeles
BEGIN:DAYLIGHT
TZOFFSETFROM:-0800
TZOFFSETTO:-0700
TZNAME:PDT
DTSTART:20250309T100000
END:DAYLIGHT
BEGIN:STANDARD
TZOFFSETFROM:-0700
TZOFFSETTO:-0800
TZNAME:PST
DTSTART:20251102T090000
END:STANDARD
BEGIN:DAYLIGHT
TZOFFSETFROM:-0800
TZOFFSETTO:-0700
TZNAME:PDT
DTSTART:20260308T100000
END:DAYLIGHT
BEGIN:STANDARD
TZOFFSETFROM:-0700
TZOFFSETTO:-0800
TZNAME:PST
DTSTART:20261101T090000
END:STANDARD
BEGIN:DAYLIGHT
TZOFFSETFROM:-0800
TZOFFSETTO:-0700
TZNAME:PDT
DTSTART:20270314T100000
END:DAYLIGHT
BEGIN:STANDARD
TZOFFSETFROM:-0700
TZOFFSETTO:-0800
TZNAME:PST
DTSTART:20271107T090000
END:STANDARD
END:VTIMEZONE
BEGIN:VTIMEZONE
TZID:America/Phoenix
BEGIN:STANDARD
TZOFFSETFROM:-0700
TZOFFSETTO:-0700
TZNAME:MST
DTSTART:20250101T000000
END:STANDARD
END:VTIMEZONE
BEGIN:VEVENT
DTSTART;TZID=America/New_York:20260528T110000
DTEND;TZID=America/New_York:20260531T120000
DTSTAMP:20260421T043139
CREATED:20251016T001936Z
LAST-MODIFIED:20251205T174316Z
UID:10000211-1779966000-1780228800@homeschoolfreedom.com
SUMMARY:2026 ICHE Homeschool Conference
DESCRIPTION:Homeschooling is exhilarating and exhausting\, has a generational impact\, is rooted in discipleship\, and worth the sacrifices!  This Conference is for YOU! \nA Shield Around Me – But you\, O LORD\, are a shield around me; you are my glory\, the one who holds my head high.  Psalm 3:3 \nWe Believe You Will: \n\nbe inspired\nget questions answered\nhave hope renewed\nmake lots of fun memories\ngain new tools and be equipped!\n\nCouples:  Plan\, Learn\, Get Away Together! \nFamilies: Morning\, Noon\, and Night Activities! \nGirlfriends: Talk\, Learn\, Meander in the Exhibit Hall!
URL:https://homeschoolfreedom.com/event/2026-iche-homeschool-conference
LOCATION:Olivet Nazarene University\, One University Avenue\, Bourbonnais\, IL\, 60914\, United States
CATEGORIES:Homeschool Conference or Convention
ATTACH;FMTTYPE=image/jpeg:https://homeschoolfreedom.com/wp-content/uploads/2025/10/Conf-26.jpg
END:VEVENT
BEGIN:VEVENT
DTSTART;TZID=America/New_York:20260530T190000
DTEND;TZID=America/New_York:20260530T210000
DTSTAMP:20260421T043139
CREATED:20251007T205159Z
LAST-MODIFIED:20251007T212416Z
UID:10000196-1780167600-1780174800@homeschoolfreedom.com
SUMMARY:2026 The Woodlands Graduation
DESCRIPTION:THSC 2026 The Woodlands Graduation – May 30\, 2026 | The Woodlands\, TX \nJoin us for an unforgettable celebration of achievement at the 2026 THSC The Woodlands Graduation! This special ceremony honors the hard work\, dedication\, and accomplishments of homeschool graduates from across the north Houston area. \nFamilies and friends are invited to gather for an inspiring program featuring a meaningful keynote address and a beautiful ceremony designed to mark this milestone moment. \nDon’t miss the opportunity to celebrate your graduate’s success in a joyful\, Christ-centered environment alongside the local homeschool community. Register at the link in the description!
URL:https://homeschoolfreedom.com/event/2026-the-woodlands-graduation
LOCATION:The Woodlands Waterway Marriott Hotel & Convention Center\, 1601 Lake Robbins Drive\, The Woodlands\, TX\, 77380\, United States
CATEGORIES:Graduation Ceremony
ATTACH;FMTTYPE=image/png:https://homeschoolfreedom.com/wp-content/uploads/2025/10/2026grad-1.png
ORGANIZER;CN="THSC (Texas Home School Coalition)":MAILTO:thsc@thsc.org
END:VEVENT
BEGIN:VEVENT
DTSTART;VALUE=DATE:20260604
DTEND;VALUE=DATE:20260607
DTSTAMP:20260421T043139
CREATED:20251001T222615Z
LAST-MODIFIED:20251001T225626Z
UID:10000187-1780531200-1780790399@homeschoolfreedom.com
SUMMARY:43rd Annual Virginia Homeschool Convention - 2026
DESCRIPTION:Deciding whether you want to homeschool? Or perhaps you are already homeschooling but are still struggling with doubts\, concerned about whether you have the ability to “do it right.”  \nYou are not alone. \nWhen you connect with 10\,000 others on the same journey at HEAV’s Virginia Homeschool Convention\, isolation becomes inspiration\, fear becomes confidence\, and freedom becomes reality. \nHeld each year in June at the Greater Richmond Convention Center\, HEAV’s Annual Virginia Homeschool Convention is one of the largest\, most vibrant homeschool conventions in the nation. The three-day event brings together authentic speakers with change-your-life messages\, and exhibitors with passion and knowledge to equip and encourage you with ideas\, strategies\, and vision.
URL:https://homeschoolfreedom.com/event/2026-virginia-homeschool-convention
LOCATION:Greater Richmond Convention Center\, 403 N. 3rd Street\, Richmond\, VA\, United States
CATEGORIES:Homeschool Conference or Convention
ATTACH;FMTTYPE=image/png:https://homeschoolfreedom.com/wp-content/uploads/2025/09/2026-Logo.png
ORGANIZER;CN="HEAV (Home Educators Association of Virginia)":MAILTO:office@heav.org
END:VEVENT
BEGIN:VEVENT
DTSTART;TZID=America/New_York:20260604T080000
DTEND;TZID=America/New_York:20260606T170000
DTSTAMP:20260421T043139
CREATED:20251007T213131Z
LAST-MODIFIED:20251007T213239Z
UID:10000199-1780560000-1780765200@homeschoolfreedom.com
SUMMARY:2026 Homeschool Idaho Convention
DESCRIPTION:Starting with our outdoor Curriculum Resale Event on June 4\, and continuing with two full days of speakers\, workshops\, a hands-on Children’s Program\, and a full vendor hall\, you will come away equipped and refreshed for your homeschool year!
URL:https://homeschoolfreedom.com/event/2026-homeschool-idaho-convention
LOCATION:Treasure Valley Baptist Church\, 1300 S. Teare\, Meridian\, ID\, 83642\, United States
CATEGORIES:Homeschool Conference or Convention
ATTACH;FMTTYPE=image/png:https://homeschoolfreedom.com/wp-content/uploads/2025/10/2026-Convention-cover.png
ORGANIZER;CN="Homeschool Idaho":MAILTO:info@homeschoolidaho.org
END:VEVENT
BEGIN:VEVENT
DTSTART;VALUE=DATE:20260605
DTEND;VALUE=DATE:20260607
DTSTAMP:20260421T043139
CREATED:20260102T211854Z
LAST-MODIFIED:20260102T230117Z
UID:10000224-1780617600-1780790399@homeschoolfreedom.com
SUMMARY:2026 Homeschool Iowa Conference 
DESCRIPTION:You’ll experience a fantastic weekend of excitement and encouragement at the 2026 Homeschool Iowa Conference! \nCome away feeling not only informed and equipped\, but also refreshed and rejuvenated for your homeschool journey\, whether just starting out or a seasoned traveler. \nOur 2026 Conference offers new ideas\, strategies\, vision\, and perspective. \nSoak in useful information from the outstanding speakers\, shop in the expansive exhibit hall\, and tap into the special tracks\, youth programs\, and other custom-designed programming for homeschooling families. \n It’s an amazing weekend of recharging\, learning\, and connecting. Gain just what you need to walk this beautiful\, sometimes challenging\, but always incredibly vital homeschooling journey with our families. \nWant to receive conference news & updates? Homeschool Iowa Conference & Exhibit Hall – Homeschool Iowa
URL:https://homeschoolfreedom.com/event/2026-homeschool-iowa-conference
LOCATION:MidAmerican Energy RecPlex\, 6500 Grand Avenue\, West Des Moines\, IA\, 50266\, United States
CATEGORIES:Homeschool Conference or Convention
ATTACH;FMTTYPE=image/png:https://homeschoolfreedom.com/wp-content/uploads/2025/12/Conference.png
ORGANIZER;CN="Homeschool Iowa":MAILTO:info@homeschooliowa.org
END:VEVENT
BEGIN:VEVENT
DTSTART;TZID=America/New_York:20260611T080000
DTEND;TZID=America/New_York:20260613T170000
DTSTAMP:20260421T043139
CREATED:20251007T204911Z
LAST-MODIFIED:20251007T212408Z
UID:10000188-1781164800-1781370000@homeschoolfreedom.com
SUMMARY:2026 CHAP Homeschool Convention
DESCRIPTION:Come join us at CHAP’s 38th Annual Homeschool Convention! We return again this year to the beautiful campus of Elizabethtown College on June 11-13\, 2026. Our 3-day convention will highlight: A packed speaker lineup\, massive vendor hall open all day Friday and Saturday\, special needs mini-conference all-day Thursday\, teen track\, beginning homeschool and high school at home sessions\, used curriculum sale\, and so much more! You don’t want to miss this event! \nCome celebrate the 40 year anniversary of CHAP at the 38th annual convention as we REJOICE IN HOPE!  – Romans 12:12
URL:https://homeschoolfreedom.com/event/2026-chap-homeschool-convention
LOCATION:Elizabethtown College\, Pennsylvania\, 777 South Mount Joy St.\, Elizabethtown\, PA\, 17022\, United States
CATEGORIES:Getting Started,Homeschool Conference or Convention,Special Needs Conference,Used Book Sale
ATTACH;FMTTYPE=image/jpeg:https://homeschoolfreedom.com/wp-content/uploads/2025/10/2026-Convention.jpg
END:VEVENT
BEGIN:VEVENT
DTSTART;TZID=America/Los_Angeles:20260709T090000
DTEND;TZID=America/Los_Angeles:20260709T153000
DTSTAMP:20260421T043139
CREATED:20251001T231751Z
LAST-MODIFIED:20251001T235616Z
UID:10000177-1783587600-1783611000@homeschoolfreedom.com
SUMMARY:CHEA's 2026 Spring Leadership Conference
DESCRIPTION:CHEA’s Spring Leadership Conference\, which includes lunch\, is designed to help encourage and equip those leading in any area of private home education groups\, including PSPs\, co-ops\, support groups\, and more. Leaders do not need to be part of CHEA’s Support Network to attend the Leadership Event. We hope you will join us!
URL:https://homeschoolfreedom.com/event/chea-2026-spring-leadership-conference
LOCATION:Calvary Chapel Downey\, 12808 Woodruff Ave\, Downey\, CA\, 90242\, United States
CATEGORIES:Leadership Event
ATTACH;FMTTYPE=image/jpeg:https://homeschoolfreedom.com/wp-content/uploads/2021/02/chea.jpg
ORGANIZER;CN="CHEA (Christian Home Educators Association of California)":MAILTO:cheainfo@cheaofca.org
END:VEVENT
BEGIN:VEVENT
DTSTART;VALUE=DATE:20260710
DTEND;VALUE=DATE:20260712
DTSTAMP:20260421T043139
CREATED:20251001T232324Z
LAST-MODIFIED:20260226T225910Z
UID:10000176-1783641600-1783814399@homeschoolfreedom.com
SUMMARY:CHEA's 2026 Parenting and Homeschool Convention
DESCRIPTION:Discover how to cultivate a home education that empowers your family to thrive. CHEA’s Parenting & Homeschool Convention brings together experienced speakers\, exhibitors\, and a community of believers to assist you on your journey. Whether you’re beginning or refining your approach\, you’ll find inspiration\, connection\, and encouragement to lead your children’s education with biblical wisdom and purpose. Join us for two days of learning and fellowship designed to strengthen your family and protect the precious calling God has given you as a parent-educator.
URL:https://homeschoolfreedom.com/event/chea-2026-parenting-homeschool-convention
LOCATION:Calvary Chapel Downey\, 12808 Woodruff Ave\, Downey\, CA\, 90242\, United States
CATEGORIES:Family Event,Getting Started,Graduation Ceremony,Homeschool Conference or Convention,Leadership Event,Parenting Event,Spanish Homeschool Conference
ATTACH;FMTTYPE=image/png:https://homeschoolfreedom.com/wp-content/uploads/2026/02/New-Parenting-Homeschool-Convention-logo-1-4.png
ORGANIZER;CN="CHEA (Christian Home Educators Association of California)":MAILTO:cheainfo@cheaofca.org
END:VEVENT
BEGIN:VEVENT
DTSTART;TZID=America/Los_Angeles:20260710T090000
DTEND;TZID=America/Los_Angeles:20260710T123000
DTSTAMP:20260421T043139
CREATED:20260227T192844Z
LAST-MODIFIED:20260227T192922Z
UID:10000236-1783674000-1783686600@homeschoolfreedom.com
SUMMARY:CHEA's Free Intro to Homeschool Mini-Con 2026
DESCRIPTION:Are you considering homeschooling? Exploring your options? Feeling lost or overwhelmed? This FREE Intro to Homeschool Mini-Con will provide you with information about how to legally educate your children at home in California\, encouragement to make the right decision for your family\, and an opportunity to speak with publishers and browse curriculum in the Exhibit Hall.
URL:https://homeschoolfreedom.com/event/2026-chea-free-intro-to-homeschool
LOCATION:Calvary Chapel Downey\, 12808 Woodruff Ave\, Downey\, CA\, 90242\, United States
CATEGORIES:Getting Started,Homeschool Conference or Convention,Mini-Conference or Seminar
ATTACH;FMTTYPE=image/png:https://homeschoolfreedom.com/wp-content/uploads/2026/02/New-Parenting-Homeschool-Convention-logo-1-2.png
ORGANIZER;CN="CHEA (Christian Home Educators Association of California)":MAILTO:cheainfo@cheaofca.org
END:VEVENT
BEGIN:VEVENT
DTSTART;TZID=America/Los_Angeles:20260710T090000
DTEND;TZID=America/Los_Angeles:20260710T123000
DTSTAMP:20260421T043139
CREATED:20260227T193050Z
LAST-MODIFIED:20260227T193132Z
UID:10000237-1783674000-1783686600@homeschoolfreedom.com
SUMMARY:CHEA's Life After High School Mini-Con
DESCRIPTION:Parents and their teens are invited to attend this FREE\, fun\, informative morning on navigating high school and beyond. There are many different pathways open to homeschooled students after high school\, and our goal is to give you an overview of several of them. \nOur desire is to show parents that not only is it possible to homeschool through high school\, but you can be successful and prepare your student for whatever God may have for him after graduation\, including college. Teens are encouraged to come to learn more about the possibilities as well as the college admissions process.
URL:https://homeschoolfreedom.com/event/2026-chea-life-after-high-school
LOCATION:Calvary Chapel Downey\, 12808 Woodruff Ave\, Downey\, CA\, 90242\, United States
CATEGORIES:Family Event,Homeschool Conference or Convention,Homeschooling High School,Mini-Conference or Seminar,Parenting Event
ATTACH;FMTTYPE=image/png:https://homeschoolfreedom.com/wp-content/uploads/2026/02/New-Parenting-Homeschool-Convention-logo-1-3.png
ORGANIZER;CN="CHEA (Christian Home Educators Association of California)":MAILTO:cheainfo@cheaofca.org
END:VEVENT
BEGIN:VEVENT
DTSTART;TZID=America/Los_Angeles:20260710T090000
DTEND;TZID=America/Los_Angeles:20260710T123000
DTSTAMP:20260421T043139
CREATED:20260227T193256Z
LAST-MODIFIED:20260227T193256Z
UID:10000238-1783674000-1783686600@homeschoolfreedom.com
SUMMARY:CHEA's Mini-Conferencia Gratuita
DESCRIPTION:¿Está considerando la educación en casa? ¿Explorando sus opciones? ¿Se siente perdido o abrumado? Esta mini conferencia introductoria gratuita sobre la educación en casa le brindará información sobre cómo educar legalmente a sus hijos en casa en California\, le brindará apoyo para tomar la decisión correcta para su familia y le dará la oportunidad de hablar con editoriales y explorar materiales educativos en la sala de exposiciones durante la última hora (es necesario haber asistido a la sesión anterior). \nEste evento es gratis y está abierto al público\, aunque se requiere inscripción previa.
URL:https://homeschoolfreedom.com/event/chea-mini-conferencia-gratuita
LOCATION:Calvary Chapel Downey\, 12808 Woodruff Ave\, Downey\, CA\, 90242\, United States
CATEGORIES:Getting Started,Homeschool Conference or Convention,Mini-Conference or Seminar,Parenting Event,Spanish Homeschool Conference
ATTACH;FMTTYPE=image/png:https://homeschoolfreedom.com/wp-content/uploads/2026/02/New-Parenting-Homeschool-Convention-logo-1-4.png
ORGANIZER;CN="CHEA (Christian Home Educators Association of California)":MAILTO:cheainfo@cheaofca.org
END:VEVENT
BEGIN:VEVENT
DTSTART;TZID=America/Los_Angeles:20260710T191500
DTEND;TZID=America/Los_Angeles:20260710T204500
DTSTAMP:20260421T043139
CREATED:20260227T192549Z
LAST-MODIFIED:20260227T192705Z
UID:10000235-1783710900-1783716300@homeschoolfreedom.com
SUMMARY:CHEA's 2026 Graduation Ceremony
DESCRIPTION:High school graduation is a momentous occasion! Celebrate this great achievement with your family and friends at this beautiful ceremony\, open to all privately homeschooled high school seniors.
URL:https://homeschoolfreedom.com/event/chea-2026-graduation-ceremony
LOCATION:Calvary Chapel Downey\, 12808 Woodruff Ave\, Downey\, CA\, 90242\, United States
CATEGORIES:Family Event,Graduation Ceremony,Homeschool Conference or Convention
ATTACH;FMTTYPE=image/png:https://homeschoolfreedom.com/wp-content/uploads/2026/02/New-Parenting-Homeschool-Convention-logo-1-1.png
ORGANIZER;CN="CHEA (Christian Home Educators Association of California)":MAILTO:cheainfo@cheaofca.org
END:VEVENT
BEGIN:VEVENT
DTSTART;VALUE=DATE:20260717
DTEND;VALUE=DATE:20260719
DTSTAMP:20260421T043139
CREATED:20260226T225218Z
LAST-MODIFIED:20260226T232931Z
UID:10000229-1784246400-1784419199@homeschoolfreedom.com
SUMMARY:Learning Together Arizona: AFHE's 43rd Annual Home Education Convention
DESCRIPTION:Whether you’ve been coming for years or this is your first homeschool gathering\, LEARNING TOGETHER ARIZONA is for you! And our 2026 convention will absolutely feature a patriotic and historic flair as we celebrate the 250th anniversary of America’s Declaration of Independence! Here’s what you’ll find when you join us July 17-18: \n\nInspiring and motivating keynotes from nationally known speakers Heidi St. John and Bill Federer\nOver 100 workshops led by experienced homeschool “veterans” and subject matter experts\nPractical “how-to” sessions for those real challenges and questions all homeschoolers face\nFull two-day program for teens\nHuge expo hall with 120+ curriculum publishers\, authors\, service providers\, resource organizations\, and educational materials suppliers\nAFHE’s Mentoring Connection staffed with homeschool parents eager to hear your story and answer your questions\nA Friday night event for the whole family! AFHE Heritage of Freedom Celebration will combine a festival atmosphere with a patriotic program of speakers\, music\, and drama.\n\nOur pre-convention day on July 16 will include: \n\nFREE intro seminar “You Can Homeschool”: no RSVP or entry fee required! Come with a friend\, your spouse\, grandparents—anyone who is curious about homeschooling in Arizona and how to get started.\nHigh school dissection labs: two 2-hour labs taught by a college anatomy instructor\nHistory Fair: homeschool students age 6-18 may enter a project to display and compete for prizes\n\nOnline registration will open April 2\, 2026. Complete details will be published at afhe.org beginning in February.
URL:https://homeschoolfreedom.com/event/2026-afhe-convention
LOCATION:Phoenix Convention Center\, 33 South Third Street\, Phoenix\, AZ\, 85004\, United States
CATEGORIES:Homeschool Conference or Convention
ATTACH;FMTTYPE=image/png:https://homeschoolfreedom.com/wp-content/uploads/2026/01/Horizontal_with_date-transparent-1460x582-1.png
ORGANIZER;CN="AFHE (Arizona Families for Home Education)":MAILTO:homeschool@afhe.org
END:VEVENT
BEGIN:VEVENT
DTSTART;TZID=America/New_York:20261001T180000
DTEND;TZID=America/New_York:20261001T210000
DTSTAMP:20260421T043139
CREATED:20251001T225045Z
LAST-MODIFIED:20251001T225614Z
UID:10000184-1790877600-1790888400@homeschoolfreedom.com
SUMMARY:2026 Midwest Parent Educators (MPE) 40th Anniversary Gala Celebration
DESCRIPTION:Celebrate MPE’s achievements over the last 40 years as we continue to support families homeschooling for the next 40 years!
URL:https://homeschoolfreedom.com/event/2026-midwest-parent-educators-mpe-40th-anniversary-gala-celebration
LOCATION:Journey Bible Church\, 13700 W 151st St\, Olathe\, KS\, 66062\, United States
CATEGORIES:Gala
ATTACH;FMTTYPE=image/jpeg:https://homeschoolfreedom.com/wp-content/uploads/2025/09/MPE_2025_40thAnniversary_Gala.jpg
ORGANIZER;CN="MPE (Midwest Parent Educators)":MAILTO:info@midwesthomeschoolers.org
END:VEVENT
BEGIN:VEVENT
DTSTART;VALUE=DATE:20261106
DTEND;VALUE=DATE:20261107
DTSTAMP:20260421T043139
CREATED:20260102T225630Z
LAST-MODIFIED:20260102T225818Z
UID:10000227-1793923200-1794009599@homeschoolfreedom.com
SUMMARY:2026 National Homeschool Day of Prayer
DESCRIPTION:First Friday of November\nPLEASE JOIN US AND OTHER HOMESCHOOLERS ACROSS THE COUNTRY AS WE:\n\nGive thanks for the freedom we have to homeschool our children\,\nPray for homeschooling families in your own nation and around the world\,\nPray for upcoming elections and the impact they may have on homeschooling\,\nPray for your state’s homeschool organization and its leaders.\nAnd\, more!\n\nMark your calendars! Friday\, November 6\, 2026 is the 9th annual National Homeschool Day of Prayer. 🙏\n\nJoin homeschool families across the nation and around the world as we thank God for the freedom to educate our children at home and pray for wisdom\, protection\, and blessing over our families.\n\nFollow the Homeschool Freedom Facebook page and turn on notifications so you don’t miss hourly prayer prompts starting at 10:00 AM (EST)\, special guests\, and community encouragement throughout the day. \nFREE ACTIVITY GUIDE\nDownload the free activity guide packed with puzzle pages\, worksheets\, coloring pages\, and family activities to make this a meaningful day for your whole family. (The 2026 Activity Guide will be available for download mid-to-late October 2026.)\nGET YOUR FREE ACTIVITY GUIDE \n#nationalhomeschooldayofprayer #homeschoolfreedom #NHDP2026
URL:https://homeschoolfreedom.com/event/2026-national-homeschool-day-of-prayer
LOCATION:IA
CATEGORIES:National,Webinar / Virtual Event
ATTACH;FMTTYPE=image/jpeg:https://homeschoolfreedom.com/wp-content/uploads/2026/01/2026_NHPD_Header9_with_Date_1080x460.jpg
ORGANIZER;CN="Homeschool Freedom":MAILTO:info@homeschoolfreedom.com
END:VEVENT
END:VCALENDAR