BEGIN:VCALENDAR
VERSION:2.0
PRODID:-//Homeschool Freedom - ECPv6.15.20//NONSGML v1.0//EN
CALSCALE:GREGORIAN
METHOD:PUBLISH
X-WR-CALNAME:Homeschool Freedom
X-ORIGINAL-URL:https://homeschoolfreedom.com
X-WR-CALDESC:Events for Homeschool Freedom
REFRESH-INTERVAL;VALUE=DURATION:PT1H
X-Robots-Tag:noindex
X-PUBLISHED-TTL:PT1H
BEGIN:VTIMEZONE
TZID:America/Los_Angeles
BEGIN:DAYLIGHT
TZOFFSETFROM:-0800
TZOFFSETTO:-0700
TZNAME:PDT
DTSTART:20250309T100000
END:DAYLIGHT
BEGIN:STANDARD
TZOFFSETFROM:-0700
TZOFFSETTO:-0800
TZNAME:PST
DTSTART:20251102T090000
END:STANDARD
BEGIN:DAYLIGHT
TZOFFSETFROM:-0800
TZOFFSETTO:-0700
TZNAME:PDT
DTSTART:20260308T100000
END:DAYLIGHT
BEGIN:STANDARD
TZOFFSETFROM:-0700
TZOFFSETTO:-0800
TZNAME:PST
DTSTART:20261101T090000
END:STANDARD
BEGIN:DAYLIGHT
TZOFFSETFROM:-0800
TZOFFSETTO:-0700
TZNAME:PDT
DTSTART:20270314T100000
END:DAYLIGHT
BEGIN:STANDARD
TZOFFSETFROM:-0700
TZOFFSETTO:-0800
TZNAME:PST
DTSTART:20271107T090000
END:STANDARD
END:VTIMEZONE
BEGIN:VEVENT
DTSTART;TZID=America/Los_Angeles:20260710T090000
DTEND;TZID=America/Los_Angeles:20260710T123000
DTSTAMP:20260419T082801
CREATED:20260227T193050Z
LAST-MODIFIED:20260227T193132Z
UID:10000237-1783674000-1783686600@homeschoolfreedom.com
SUMMARY:CHEA's Life After High School Mini-Con
DESCRIPTION:Parents and their teens are invited to attend this FREE\, fun\, informative morning on navigating high school and beyond. There are many different pathways open to homeschooled students after high school\, and our goal is to give you an overview of several of them. \nOur desire is to show parents that not only is it possible to homeschool through high school\, but you can be successful and prepare your student for whatever God may have for him after graduation\, including college. Teens are encouraged to come to learn more about the possibilities as well as the college admissions process.
URL:https://homeschoolfreedom.com/event/2026-chea-life-after-high-school
LOCATION:Calvary Chapel Downey\, 12808 Woodruff Ave\, Downey\, CA\, 90242\, United States
CATEGORIES:Family Event,Homeschool Conference or Convention,Homeschooling High School,Mini-Conference or Seminar,Parenting Event
ATTACH;FMTTYPE=image/png:https://homeschoolfreedom.com/wp-content/uploads/2026/02/New-Parenting-Homeschool-Convention-logo-1-3.png
ORGANIZER;CN="CHEA (Christian Home Educators Association of California)":MAILTO:cheainfo@cheaofca.org
END:VEVENT
END:VCALENDAR